BEGIN:VCALENDAR
VERSION:2.0
PRODID:-//Ksliitto.fi - ECPv4.1.3//NONSGML v1.0//EN
CALSCALE:GREGORIAN
METHOD:PUBLISH
X-WR-CALNAME:Ksliitto.fi
X-ORIGINAL-URL:https://ksliitto.fi
X-WR-CALDESC:Events for Ksliitto.fi
BEGIN:VEVENT
DTSTART;TZID=UTC+0:20240223T090000
DTEND;TZID=UTC+0:20240223T170000
DTSTAMP:20260422T052731
CREATED:20240129T194251
LAST-MODIFIED:20240129T194938
UID:1713-1708678800-1708707600@ksliitto.fi
SUMMARY:RJ täydennyskurssi\, Jämsä
DESCRIPTION:RJ-täydennyskurssi 2024 \nKurssi on suunnattu ryhmänjohtajina toimiville henkilöille.\n\nKurssipaikka\nJämsän paloasema 23.3.\nSeppälän paloasema 24.3.\nViitasaaren paloasema 6.4.\nÄänekosken paloasema 7.4.\n\nkoulutus alkaa kyseisenä päivänä kello 9:00 ja\nkoulutus päättyy kello 17:00\n\nSähköp: riku.lehtinen@pelastustoimi.fi\nPuh: 050 - 461 0307
URL:https://ksliitto.fi/index.php/event/ryhmanjohtajien-taydennyskursseja/
LOCATION:esankatu 6\, Jämsä
ORGANIZER;CN="K-S%20Pelastusalan%20Liitto":MAILTO:minna.hamalainen@ksliitto.fi
END:VEVENT
END:VCALENDAR