BEGIN:VCALENDAR
VERSION:2.0
PRODID:-//Ksliitto.fi - ECPv4.1.3//NONSGML v1.0//EN
CALSCALE:GREGORIAN
METHOD:PUBLISH
X-WR-CALNAME:Ksliitto.fi
X-ORIGINAL-URL:http://ksliitto.fi
X-WR-CALDESC:Events for Ksliitto.fi
BEGIN:VEVENT
DTSTART;TZID=UTC+0:20240427T083000
DTEND;TZID=UTC+0:20240504T160000
DTSTAMP:20260423T164234
CREATED:20240313T084353
LAST-MODIFIED:20240313T084353
UID:1750-1714206600-1714838400@ksliitto.fi
SUMMARY:Tieliikennepelastamisen kurssi Seppälä
DESCRIPTION:Kevään TIPE-kurssi järjestetään Seppälässä 27.4.-4.5.2024. Vastaavana kouluttajana toimii Joonatan Partanen.\nIlmoittautumisaika päättyy 28.3.2024\, johon mennessä hakemukset osoitteeseen joonatan.partanen@pelastustoimi.fi.\n\nMuistakaahan hakea puolto oman asemaryhmän viranhaltijalta.
URL:http://ksliitto.fi/index.php/event/tieliikennepelastamisen-kurssi-seppala/
LOCATION:Seppäläntie 1\, Jyväskylä\, Suomi
ORGANIZER;CN="K-S%20Pelastusalan%20Liitto":MAILTO:minna.hamalainen@ksliitto.fi
END:VEVENT
END:VCALENDAR