BEGIN:VCALENDAR
VERSION:2.0
PRODID:-//Ksliitto.fi - ECPv4.1.3//NONSGML v1.0//EN
CALSCALE:GREGORIAN
METHOD:PUBLISH
X-WR-CALNAME:Ksliitto.fi
X-ORIGINAL-URL:http://ksliitto.fi
X-WR-CALDESC:Events for Ksliitto.fi
BEGIN:VEVENT
DTSTART;TZID=UTC+0:20240402T170000
DTEND;TZID=UTC+0:20240506T210000
DTSTAMP:20260424T202805
CREATED:20240313T085135
LAST-MODIFIED:20240313T085135
UID:1751-1712077200-1715029200@ksliitto.fi
SUMMARY:Savusukelluskurssi 2.4. - 6.5.2024 Saarijärvellä
DESCRIPTION:Vuoden 2024 ensimmäinen savusukelluskurssi on suunnitelmissa järjestää 2.4-6.5.2024\, jossa vastaavana kouluttajana Tapani Kellosaari. Teoriat on Laukaassa tai Äänekoskella ja käytännön harjoittava opetus järjestetään Saarijärvellä pl. lämmin savupäivä.  Huom. vuodesta 2025 alkaen savusukelluskurssille hakeutuvan henkilön tulee olla suorittanut sammutustekniikkakurssi eli vielä tänä vuonna sitä ei tarvitse olla suoritettu.\n Hakemuksissa tulee olla paloasemaryhmästä vastaavan viranhaltijan puolto\, jonka jälkeen ne toimitetaan sähköpostiin tapani.kellosaari@pelastustoimi.fi  . Hakemuksen yhteydessä lähetettävä myös sähköpostiliitteenä kelpoisuusselvityslomake Hakuaika päättyy perjantaina 22.3.2024\, jonka jälkeen tulleita hakemuksia ei huomioida. Muutama huomioitava asia:\n Huomioi pääsyvaatimukset kurssille:\n\n\n \t18-vuotias. (huom\, jos kurssin aikana täytät 18v\, sinun on mahdollista hakeutua kurssille)\n \tkelvollinen vaativiin tehtäviin. (Firefit: toimintakuntotestit ja Työterveyshuollon voimassa oleva terveystarkastus (lausunto vaativiin tehtäviin)\n \tsuorittanut pelastustoiminnan peruskurssin tai sammutustyönkurssin.\n \ttehtävään soveltuva\, eikä omaa ahtaan-\, korkeanpaikan tai pimeän kammoa.\n \tosaa käyttää paineilmahengityslaitetta sekä huoltaa ja tarkastaa sen käytön jälkeen.\n\nEnnen kurssia sinulla tulee olla pääsy Koulumaali- oppimisympäristöön ja tietoturvatentti suoritettuna.
URL:http://ksliitto.fi/index.php/event/savusukelluskurssi-2-4-6-5-2024-saarijarvella/
LOCATION:kuntien paloasemat\, Suomi
ORGANIZER;CN="K-S%20Pelastusalan%20Liitto":MAILTO:minna.hamalainen@ksliitto.fi
END:VEVENT
END:VCALENDAR